BEGIN:VCALENDAR
VERSION:2.0
PRODID:-//Richmond Community Services - ECPv6.15.20//NONSGML v1.0//EN
CALSCALE:GREGORIAN
METHOD:PUBLISH
X-WR-CALNAME:Richmond Community Services
X-ORIGINAL-URL:https://richmondcommserv.org
X-WR-CALDESC:Events for Richmond Community Services
REFRESH-INTERVAL;VALUE=DURATION:PT1H
X-Robots-Tag:noindex
X-PUBLISHED-TTL:PT1H
BEGIN:VTIMEZONE
TZID:America/Detroit
BEGIN:DAYLIGHT
TZOFFSETFROM:-0500
TZOFFSETTO:-0400
TZNAME:EDT
DTSTART:20240310T070000
END:DAYLIGHT
BEGIN:STANDARD
TZOFFSETFROM:-0400
TZOFFSETTO:-0500
TZNAME:EST
DTSTART:20241103T060000
END:STANDARD
BEGIN:DAYLIGHT
TZOFFSETFROM:-0500
TZOFFSETTO:-0400
TZNAME:EDT
DTSTART:20250309T070000
END:DAYLIGHT
BEGIN:STANDARD
TZOFFSETFROM:-0400
TZOFFSETTO:-0500
TZNAME:EST
DTSTART:20251102T060000
END:STANDARD
BEGIN:DAYLIGHT
TZOFFSETFROM:-0500
TZOFFSETTO:-0400
TZNAME:EDT
DTSTART:20260308T070000
END:DAYLIGHT
BEGIN:STANDARD
TZOFFSETFROM:-0400
TZOFFSETTO:-0500
TZNAME:EST
DTSTART:20261101T060000
END:STANDARD
END:VTIMEZONE
BEGIN:VEVENT
DTSTART;VALUE=DATE:20251006
DTEND;VALUE=DATE:20251007
DTSTAMP:20260425T100104
CREATED:20250703T144511Z
LAST-MODIFIED:20250703T144511Z
UID:2608-1759708800-1759795199@richmondcommserv.org
SUMMARY:World Cerebral Palsy Day
DESCRIPTION:World Cerebral Palsy Day began in 2012 and now connects over 10 million people across more than 100 countries. It’s a global movement to raise awareness and promote greater inclusion\, accessibility\, and opportunity for people with cerebral palsy. \nAt Richmond Community Services\, we proudly support individuals with cerebral palsy through personalized care\, therapy\, and programs that promote independence and dignity. Every day\, we work to ensure the people we support have the tools and respect they deserve to live whole\, meaningful lives. \nFor more information\, visit: https://worldcpday.org
URL:https://richmondcommserv.org/event/world-cerebral-palsy-day/
ATTACH;FMTTYPE=image/png:https://richmondcommserv.org/wp-content/uploads/2025/07/Cerebral-Palsy.png
END:VEVENT
END:VCALENDAR