BEGIN:VCALENDAR
VERSION:2.0
PRODID:-//Richmond Community Services - ECPv6.15.20//NONSGML v1.0//EN
CALSCALE:GREGORIAN
METHOD:PUBLISH
X-ORIGINAL-URL:https://richmondcommserv.org
X-WR-CALDESC:Events for Richmond Community Services
REFRESH-INTERVAL;VALUE=DURATION:PT1H
X-Robots-Tag:noindex
X-PUBLISHED-TTL:PT1H
BEGIN:VTIMEZONE
TZID:America/Detroit
BEGIN:DAYLIGHT
TZOFFSETFROM:-0500
TZOFFSETTO:-0400
TZNAME:EDT
DTSTART:20240310T070000
END:DAYLIGHT
BEGIN:STANDARD
TZOFFSETFROM:-0400
TZOFFSETTO:-0500
TZNAME:EST
DTSTART:20241103T060000
END:STANDARD
BEGIN:DAYLIGHT
TZOFFSETFROM:-0500
TZOFFSETTO:-0400
TZNAME:EDT
DTSTART:20250309T070000
END:DAYLIGHT
BEGIN:STANDARD
TZOFFSETFROM:-0400
TZOFFSETTO:-0500
TZNAME:EST
DTSTART:20251102T060000
END:STANDARD
BEGIN:DAYLIGHT
TZOFFSETFROM:-0500
TZOFFSETTO:-0400
TZNAME:EDT
DTSTART:20260308T070000
END:DAYLIGHT
BEGIN:STANDARD
TZOFFSETFROM:-0400
TZOFFSETTO:-0500
TZNAME:EST
DTSTART:20261101T060000
END:STANDARD
END:VTIMEZONE
BEGIN:VEVENT
DTSTART;TZID=America/Detroit:20251001T080000
DTEND;TZID=America/Detroit:20251031T170000
DTSTAMP:20260425T114533
CREATED:20250820T185235Z
LAST-MODIFIED:20250820T185235Z
UID:2858-1759305600-1761930000@richmondcommserv.org
SUMMARY:National Physical Therapy Month
DESCRIPTION:National Physical Therapy Month highlights the professionals who help individuals gain strength\, mobility\, and independence. At Richmond Community Services\, our physical therapists empower residents to reach their personal goals through compassionate\, skillful care.
URL:https://richmondcommserv.org/event/national-physical-therapy-month/
ATTACH;FMTTYPE=image/png:https://richmondcommserv.org/wp-content/uploads/2025/08/Physical-Therapy-1.png
END:VEVENT
END:VCALENDAR