BEGIN:VCALENDAR
VERSION:2.0
PRODID:-//Richmond Community Services - ECPv6.15.20//NONSGML v1.0//EN
CALSCALE:GREGORIAN
METHOD:PUBLISH
X-WR-CALNAME:Richmond Community Services
X-ORIGINAL-URL:https://richmondcommserv.org
X-WR-CALDESC:Events for Richmond Community Services
REFRESH-INTERVAL;VALUE=DURATION:PT1H
X-Robots-Tag:noindex
X-PUBLISHED-TTL:PT1H
BEGIN:VTIMEZONE
TZID:America/Detroit
BEGIN:DAYLIGHT
TZOFFSETFROM:-0500
TZOFFSETTO:-0400
TZNAME:EDT
DTSTART:20250309T070000
END:DAYLIGHT
BEGIN:STANDARD
TZOFFSETFROM:-0400
TZOFFSETTO:-0500
TZNAME:EST
DTSTART:20251102T060000
END:STANDARD
BEGIN:DAYLIGHT
TZOFFSETFROM:-0500
TZOFFSETTO:-0400
TZNAME:EDT
DTSTART:20260308T070000
END:DAYLIGHT
BEGIN:STANDARD
TZOFFSETFROM:-0400
TZOFFSETTO:-0500
TZNAME:EST
DTSTART:20261101T060000
END:STANDARD
BEGIN:DAYLIGHT
TZOFFSETFROM:-0500
TZOFFSETTO:-0400
TZNAME:EDT
DTSTART:20270314T070000
END:DAYLIGHT
BEGIN:STANDARD
TZOFFSETFROM:-0400
TZOFFSETTO:-0500
TZNAME:EST
DTSTART:20271107T060000
END:STANDARD
END:VTIMEZONE
BEGIN:VEVENT
DTSTART;VALUE=DATE:20260505
DTEND;VALUE=DATE:20260506
DTSTAMP:20260425T120023
CREATED:20250702T191930Z
LAST-MODIFIED:20250702T191950Z
UID:2564-1777939200-1778025599@richmondcommserv.org
SUMMARY:May 5 – Cinco de Mayo
DESCRIPTION:Cinco de Mayo marks the 1862 Battle of Puebla\, when a smaller Mexican army defeated French forces. While it’s not Mexico’s Independence Day\, it’s a proud moment in Mexican history and a symbol of resilience. In the U.S.\, it’s become a vibrant celebration of Mexican-American culture\, with music\, food\, and community events.
URL:https://richmondcommserv.org/event/may-5-cinco-de-mayo/
ATTACH;FMTTYPE=image/jpeg:https://richmondcommserv.org/wp-content/uploads/2025/07/Cover-Blog-3.jpg
END:VEVENT
BEGIN:VEVENT
DTSTART;TZID=America/Detroit:20260506T080000
DTEND;TZID=America/Detroit:20260512T233000
DTSTAMP:20260425T120023
CREATED:20250703T151231Z
LAST-MODIFIED:20250703T151231Z
UID:2615-1778054400-1778628600@richmondcommserv.org
SUMMARY:National Nurses Week
DESCRIPTION:National Nurses Week celebrates nurses’ dedication\, compassion\, and expertise nationwide. It begins each year on May 6 and ends on May 12\, the birthday of Florence Nightingale\, the founder of modern nursing. \nAt Richmond Community Services\, our nurses are at the heart of everything we do. They provide vital care\, comfort\, and advocacy for individuals with developmental disabilities. Their commitment helps our residents live healthier\, more empowered lives\, and we are deeply thankful for all they do.
URL:https://richmondcommserv.org/event/national-nurses-week/
ATTACH;FMTTYPE=image/png:https://richmondcommserv.org/wp-content/uploads/2025/07/nurses.png
END:VEVENT
BEGIN:VEVENT
DTSTART;VALUE=DATE:20260511
DTEND;VALUE=DATE:20260512
DTSTAMP:20260425T120023
CREATED:20250703T135749Z
LAST-MODIFIED:20250703T140046Z
UID:2591-1778457600-1778543999@richmondcommserv.org
SUMMARY:Mother's Day
DESCRIPTION:Mother’s Day began in the early 1900s in the U.S. as a way to honor mothers’ love\, strength\, and sacrifices. Today\, it’s celebrated worldwide to recognize the decisive role of mothers and caregivers. \nAt Richmond\, we celebrate the incredible mothers\, grandmothers\, and mother figures who support individuals with developmental disabilities. Their advocacy\, care\, and unwavering belief in their loved ones make a lifelong impact. Whether by nurturing independence or offering comfort and love\, they help build the foundation for a fulfilling life. We honor and thank them today—and every day.
URL:https://richmondcommserv.org/event/mothers-day/
ATTACH;FMTTYPE=image/png:https://richmondcommserv.org/wp-content/uploads/2025/07/Mother-Day.png
END:VEVENT
END:VCALENDAR