BEGIN:VCALENDAR
VERSION:2.0
PRODID:-//Richmond Community Services - ECPv6.15.20//NONSGML v1.0//EN
CALSCALE:GREGORIAN
METHOD:PUBLISH
X-WR-CALNAME:Richmond Community Services
X-ORIGINAL-URL:https://richmondcommserv.org
X-WR-CALDESC:Events for Richmond Community Services
REFRESH-INTERVAL;VALUE=DURATION:PT1H
X-Robots-Tag:noindex
X-PUBLISHED-TTL:PT1H
BEGIN:VTIMEZONE
TZID:America/Detroit
BEGIN:DAYLIGHT
TZOFFSETFROM:-0500
TZOFFSETTO:-0400
TZNAME:EDT
DTSTART:20250309T070000
END:DAYLIGHT
BEGIN:STANDARD
TZOFFSETFROM:-0400
TZOFFSETTO:-0500
TZNAME:EST
DTSTART:20251102T060000
END:STANDARD
BEGIN:DAYLIGHT
TZOFFSETFROM:-0500
TZOFFSETTO:-0400
TZNAME:EDT
DTSTART:20260308T070000
END:DAYLIGHT
BEGIN:STANDARD
TZOFFSETFROM:-0400
TZOFFSETTO:-0500
TZNAME:EST
DTSTART:20261101T060000
END:STANDARD
BEGIN:DAYLIGHT
TZOFFSETFROM:-0500
TZOFFSETTO:-0400
TZNAME:EDT
DTSTART:20270314T070000
END:DAYLIGHT
BEGIN:STANDARD
TZOFFSETFROM:-0400
TZOFFSETTO:-0500
TZNAME:EST
DTSTART:20271107T060000
END:STANDARD
END:VTIMEZONE
BEGIN:VEVENT
DTSTART;VALUE=DATE:20260330
DTEND;VALUE=DATE:20260331
DTSTAMP:20260425T120938
CREATED:20250703T145918Z
LAST-MODIFIED:20250703T145918Z
UID:2611-1774828800-1774915199@richmondcommserv.org
SUMMARY:National Doctors’ Day
DESCRIPTION:National Doctors’ Day recognizes the skill\, compassion\, and dedication of physicians who care for individuals and communities. First observed in 1933\, it has grown into a nationwide tribute to the life-changing impact doctors make every day. \nAt Richmond Community Services\, we’re especially grateful for the doctors who work closely with our staff and residents\, supporting the health\, dignity\, and well-being of people with developmental disabilities. Their partnership helps us provide the bmest possible care.
URL:https://richmondcommserv.org/event/national-doctors-day/
ATTACH;FMTTYPE=image/png:https://richmondcommserv.org/wp-content/uploads/2025/07/National-Doctor-Day.png
END:VEVENT
END:VCALENDAR