BEGIN:VCALENDAR
VERSION:2.0
PRODID:-//Richmond Community Services - ECPv6.15.20//NONSGML v1.0//EN
CALSCALE:GREGORIAN
METHOD:PUBLISH
X-WR-CALNAME:Richmond Community Services
X-ORIGINAL-URL:https://richmondcommserv.org
X-WR-CALDESC:Events for Richmond Community Services
REFRESH-INTERVAL;VALUE=DURATION:PT1H
X-Robots-Tag:noindex
X-PUBLISHED-TTL:PT1H
BEGIN:VTIMEZONE
TZID:America/Detroit
BEGIN:DAYLIGHT
TZOFFSETFROM:-0500
TZOFFSETTO:-0400
TZNAME:EDT
DTSTART:20250309T070000
END:DAYLIGHT
BEGIN:STANDARD
TZOFFSETFROM:-0400
TZOFFSETTO:-0500
TZNAME:EST
DTSTART:20251102T060000
END:STANDARD
BEGIN:DAYLIGHT
TZOFFSETFROM:-0500
TZOFFSETTO:-0400
TZNAME:EDT
DTSTART:20260308T070000
END:DAYLIGHT
BEGIN:STANDARD
TZOFFSETFROM:-0400
TZOFFSETTO:-0500
TZNAME:EST
DTSTART:20261101T060000
END:STANDARD
BEGIN:DAYLIGHT
TZOFFSETFROM:-0500
TZOFFSETTO:-0400
TZNAME:EDT
DTSTART:20270314T070000
END:DAYLIGHT
BEGIN:STANDARD
TZOFFSETFROM:-0400
TZOFFSETTO:-0500
TZNAME:EST
DTSTART:20271107T060000
END:STANDARD
END:VTIMEZONE
BEGIN:VEVENT
DTSTART;VALUE=DATE:20260317
DTEND;VALUE=DATE:20260318
DTSTAMP:20260424T193037
CREATED:20250702T190812Z
LAST-MODIFIED:20250702T202525Z
UID:2561-1773705600-1773791999@richmondcommserv.org
SUMMARY:St. Patrick’s Day
DESCRIPTION:St. Patrick’s Day honors the patron saint of Ireland\, who lived in the 5th century and is credited with spreading Christianity across the country. Over time\, it grew into a global celebration of Irish heritage. At Richmond\, we bring a bit of Irish cheer to life with green treats\, music\, and themed activities. It’s a fun way for residents and staff to come together\, share laughs\, and enjoy the simple joy of celebration—no luck required\, just community spirit.
URL:https://richmondcommserv.org/event/st-patricks-day/
ATTACH;FMTTYPE=image/jpeg:https://richmondcommserv.org/wp-content/uploads/2025/07/Cover-Blog-2.jpg
END:VEVENT
END:VCALENDAR