BEGIN:VCALENDAR
VERSION:2.0
PRODID:-//Richmond Community Services - ECPv6.15.20//NONSGML v1.0//EN
CALSCALE:GREGORIAN
METHOD:PUBLISH
X-WR-CALNAME:Richmond Community Services
X-ORIGINAL-URL:https://richmondcommserv.org
X-WR-CALDESC:Events for Richmond Community Services
REFRESH-INTERVAL;VALUE=DURATION:PT1H
X-Robots-Tag:noindex
X-PUBLISHED-TTL:PT1H
BEGIN:VTIMEZONE
TZID:America/Detroit
BEGIN:DAYLIGHT
TZOFFSETFROM:-0500
TZOFFSETTO:-0400
TZNAME:EDT
DTSTART:20250309T070000
END:DAYLIGHT
BEGIN:STANDARD
TZOFFSETFROM:-0400
TZOFFSETTO:-0500
TZNAME:EST
DTSTART:20251102T060000
END:STANDARD
BEGIN:DAYLIGHT
TZOFFSETFROM:-0500
TZOFFSETTO:-0400
TZNAME:EDT
DTSTART:20260308T070000
END:DAYLIGHT
BEGIN:STANDARD
TZOFFSETFROM:-0400
TZOFFSETTO:-0500
TZNAME:EST
DTSTART:20261101T060000
END:STANDARD
BEGIN:DAYLIGHT
TZOFFSETFROM:-0500
TZOFFSETTO:-0400
TZNAME:EDT
DTSTART:20270314T070000
END:DAYLIGHT
BEGIN:STANDARD
TZOFFSETFROM:-0400
TZOFFSETTO:-0500
TZNAME:EST
DTSTART:20271107T060000
END:STANDARD
END:VTIMEZONE
BEGIN:VEVENT
DTSTART;VALUE=DATE:20260214
DTEND;VALUE=DATE:20260215
DTSTAMP:20260424T195911
CREATED:20250703T141500Z
LAST-MODIFIED:20250703T143403Z
UID:2599-1771027200-1771113599@richmondcommserv.org
SUMMARY:Valentine's Day
DESCRIPTION:Valentine’s Day dates back to ancient Roman times\, but it became widely celebrated in the 1800s as a day to express love\, friendship\, and appreciation through cards\, flowers\, and heartfelt gestures. \nAt Richmond\, we celebrate Valentine’s Day with get-togethers that allow residents to connect\, share smiles\, and enjoy a special moment with friends\, housemates\, and their Direct Support Professionals (DSPs). It’s not just about romance; it’s about recognizing the love and kindness that make our community feel like home.
URL:https://richmondcommserv.org/event/valentines-day/
ATTACH;FMTTYPE=image/png:https://richmondcommserv.org/wp-content/uploads/2025/07/Valentines-1.png
END:VEVENT
END:VCALENDAR